BEGIN:VCALENDAR
VERSION:2.0
PRODID:-//ortalraisman.co.il - ECPv5.5.0.1//NONSGML v1.0//EN
CALSCALE:GREGORIAN
METHOD:PUBLISH
X-WR-CALNAME:ortalraisman.co.il
X-ORIGINAL-URL:https://mail.ortalraisman.co.il
X-WR-CALDESC:אירועים ל ortalraisman.co.il
BEGIN:VTIMEZONE
TZID:Europe/Moscow
BEGIN:STANDARD
TZOFFSETFROM:+0300
TZOFFSETTO:+0300
TZNAME:MSK
DTSTART:20210101T000000
END:STANDARD
END:VTIMEZONE
BEGIN:VEVENT
DTSTART;TZID=Europe/Moscow:20210422T160000
DTEND;TZID=Europe/Moscow:20210422T173000
DTSTAMP:20210507T100648
CREATED:20210418T051006Z
LAST-MODIFIED:20210422T123821Z
UID:29183-1619107200-1619112600@mail.ortalraisman.co.il
SUMMARY:הוצל"פ - ערעורים
DESCRIPTION:תוכן זה נגיש למנויים בלבד! היכנסו למערכת
URL:https://mail.ortalraisman.co.il/event/%d7%94%d7%95%d7%a6%d7%9c%d7%a4-%d7%a2%d7%a8%d7%a2%d7%95%d7%a8%d7%99%d7%9d/
CATEGORIES:כללי
ATTACH;FMTTYPE=image/png:https://mail.ortalraisman.co.il/wp-content/uploads/2021/01/דף-פנימי-03-1024x1024-1-150x160-1.png
END:VEVENT
END:VCALENDAR