BEGIN:VCALENDAR
VERSION:2.0
PRODID:-//ortalraisman.co.il - ECPv5.5.0.1//NONSGML v1.0//EN
CALSCALE:GREGORIAN
METHOD:PUBLISH
X-WR-CALNAME:ortalraisman.co.il
X-ORIGINAL-URL:https://mail.ortalraisman.co.il
X-WR-CALDESC:אירועים ל ortalraisman.co.il
BEGIN:VTIMEZONE
TZID:Europe/Moscow
BEGIN:STANDARD
TZOFFSETFROM:+0300
TZOFFSETTO:+0300
TZNAME:MSK
DTSTART:20210101T000000
END:STANDARD
END:VTIMEZONE
BEGIN:VEVENT
DTSTART;TZID=Europe/Moscow:20210617T100000
DTEND;TZID=Europe/Moscow:20210617T150000
DTSTAMP:20210521T151558
CREATED:20210427T092706Z
LAST-MODIFIED:20210427T093120Z
UID:29539-1623924000-1623942000@mail.ortalraisman.co.il
SUMMARY:מרתון סד"א
DESCRIPTION:
URL:https://mail.ortalraisman.co.il/event/%d7%9e%d7%a8%d7%aa%d7%95%d7%9f-%d7%a1%d7%93%d7%90/
CATEGORIES:כללי
END:VEVENT
END:VCALENDAR