BEGIN:VCALENDAR
VERSION:2.0
PRODID:-//ortalraisman.co.il - ECPv5.5.0.1//NONSGML v1.0//EN
CALSCALE:GREGORIAN
METHOD:PUBLISH
X-WR-CALNAME:ortalraisman.co.il
X-ORIGINAL-URL:https://mail.ortalraisman.co.il
X-WR-CALDESC:אירועים ל ortalraisman.co.il
BEGIN:VTIMEZONE
TZID:Europe/Moscow
BEGIN:STANDARD
TZOFFSETFROM:+0300
TZOFFSETTO:+0300
TZNAME:MSK
DTSTART:20210101T000000
END:STANDARD
END:VTIMEZONE
BEGIN:VEVENT
DTSTART;TZID=Europe/Moscow:20210421T100000
DTEND;TZID=Europe/Moscow:20210421T153000
DTSTAMP:20210507T100426
CREATED:20210218T090330Z
LAST-MODIFIED:20210418T074841Z
UID:27198-1618999200-1619019000@mail.ortalraisman.co.il
SUMMARY:ניסוח משפטי -  פתרון חוות דעת תרגול מס' 1 + מטלות תרגול מס' 2
DESCRIPTION:תוכן זה נגיש למנויים בלבד! היכנסו למערכת
URL:https://mail.ortalraisman.co.il/event/%d7%a0%d7%99%d7%a1%d7%95%d7%97-%d7%9e%d7%a9%d7%a4%d7%98%d7%99-%d7%aa%d7%a8%d7%92%d7%95%d7%9c-%d7%9e%d7%a1-2/
CATEGORIES:כללי
ATTACH;FMTTYPE=image/png:https://mail.ortalraisman.co.il/wp-content/uploads/2021/01/דף-פנימי-03-1024x1024-1-150x160-1.png
END:VEVENT
END:VCALENDAR