BEGIN:VCALENDAR
VERSION:2.0
PRODID:-//ortalraisman.co.il - ECPv5.5.0.1//NONSGML v1.0//EN
CALSCALE:GREGORIAN
METHOD:PUBLISH
X-WR-CALNAME:ortalraisman.co.il
X-ORIGINAL-URL:https://mail.ortalraisman.co.il
X-WR-CALDESC:אירועים ל ortalraisman.co.il
BEGIN:VTIMEZONE
TZID:Europe/Moscow
BEGIN:STANDARD
TZOFFSETFROM:+0300
TZOFFSETTO:+0300
TZNAME:MSK
DTSTART:20210101T000000
END:STANDARD
END:VTIMEZONE
BEGIN:VEVENT
DTSTART;TZID=Europe/Moscow:20210624T100000
DTEND;TZID=Europe/Moscow:20210624T150000
DTSTAMP:20210521T152223
CREATED:20210218T101031Z
LAST-MODIFIED:20210427T094558Z
UID:27244-1624528800-1624546800@mail.ortalraisman.co.il
SUMMARY:מרתון באתיקה
DESCRIPTION:תוכן זה נגיש למנויים בלבד! היכנסו למערכת
URL:https://mail.ortalraisman.co.il/event/nlp-14/
CATEGORIES:כללי
ATTACH;FMTTYPE=image/png:https://mail.ortalraisman.co.il/wp-content/uploads/2021/01/דף-פנימי-03-1024x1024-1-150x160-1.png
END:VEVENT
END:VCALENDAR