BEGIN:VCALENDAR
VERSION:2.0
PRODID:-//ortalraisman.co.il - ECPv5.5.0.1//NONSGML v1.0//EN
CALSCALE:GREGORIAN
METHOD:PUBLISH
X-WR-CALNAME:ortalraisman.co.il
X-ORIGINAL-URL:https://mail.ortalraisman.co.il
X-WR-CALDESC:אירועים ל ortalraisman.co.il
BEGIN:VTIMEZONE
TZID:Europe/Moscow
BEGIN:STANDARD
TZOFFSETFROM:+0300
TZOFFSETTO:+0300
TZNAME:MSK
DTSTART:20210101T000000
END:STANDARD
END:VTIMEZONE
BEGIN:VEVENT
DTSTART;TZID=Europe/Moscow:20210627T160000
DTEND;TZID=Europe/Moscow:20210627T170000
DTSTAMP:20210521T152333
CREATED:20210221T195021Z
LAST-MODIFIED:20210427T095039Z
UID:27653-1624809600-1624813200@mail.ortalraisman.co.il
SUMMARY:NLP
DESCRIPTION:תוכן זה נגיש למנויים בלבד! היכנסו למערכת
URL:https://mail.ortalraisman.co.il/event/nlp-16/
CATEGORIES:NLP
ATTACH;FMTTYPE=image/png:https://mail.ortalraisman.co.il/wp-content/uploads/2021/02/דף-פנימי-05-1024x1024-1-150x160-1.png
END:VEVENT
END:VCALENDAR